BEGIN:VCALENDAR
VERSION:2.0
PRODID:-//ABDP - ECPv6.6.2//NONSGML v1.0//EN
CALSCALE:GREGORIAN
METHOD:PUBLISH
X-ORIGINAL-URL:https://www.abdpcu.org
X-WR-CALDESC:Events for ABDP
REFRESH-INTERVAL;VALUE=DURATION:PT1H
X-Robots-Tag:noindex
X-PUBLISHED-TTL:PT1H
BEGIN:VTIMEZONE
TZID:UTC
BEGIN:STANDARD
TZOFFSETFROM:+0000
TZOFFSETTO:+0000
TZNAME:UTC
DTSTART:20200101T000000
END:STANDARD
END:VTIMEZONE
BEGIN:VEVENT
DTSTART;TZID=UTC:20201005T080000
DTEND;TZID=UTC:20201007T170000
DTSTAMP:20260424T031653
CREATED:20200929T083537Z
LAST-MODIFIED:20200929T083617Z
UID:4291-1601884800-1602090000@www.abdpcu.org
SUMMARY:Targeting Strategy Training
DESCRIPTION:ABDP through the Programme Coordination Unit (PCU) has finalized the Programme Targeting Strategy that is to guide the selection process of Programme beneficiaries and ensure that envisioned beneficiaries are gotten on board. \n\n\n\nIn this regard\, the PCU has planned for a 2 days’ regional workshop to train the Programme implementers at the county level on roll-out of the targeting strategy\, targeting mechanisms and community mobilisation approaches including Rural Participatory Approach (PRA). This will happen from 5th to 7th October 2020. \n\n\n\nEight (8) Counties namely: Nyeri\, Meru\, Kirinyaga\, Embu\, Tharaka Nithi\, Machakos\, Kajiado and Kiambu will be participating.
URL:https://www.abdpcu.org/eevent/targeting-strategy-training/
CATEGORIES:Training
END:VEVENT
END:VCALENDAR